BEGIN:VCALENDAR
VERSION:2.0
PRODID:-//Cobble Hill Association - ECPv6.15.20//NONSGML v1.0//EN
CALSCALE:GREGORIAN
METHOD:PUBLISH
X-WR-CALNAME:Cobble Hill Association
X-ORIGINAL-URL:https://cobblehill.nyc
X-WR-CALDESC:Events for Cobble Hill Association
REFRESH-INTERVAL;VALUE=DURATION:PT1H
X-Robots-Tag:noindex
X-PUBLISHED-TTL:PT1H
BEGIN:VTIMEZONE
TZID:UTC
BEGIN:STANDARD
TZOFFSETFROM:+0000
TZOFFSETTO:+0000
TZNAME:UTC
DTSTART:20160101T000000
END:STANDARD
END:VTIMEZONE
BEGIN:VEVENT
DTSTART;TZID=UTC:20170515T183000
DTEND;TZID=UTC:20170515T200000
DTSTAMP:20260425T091525
CREATED:20170508T060708Z
LAST-MODIFIED:20170508T060708Z
UID:1967-1494873000-1494878400@cobblehill.nyc
SUMMARY:CB6 Economic Development and Housing Committee
DESCRIPTION:Presentation and discussion with representatives for the New York City Housing Authority on the Wyckoff Gardens NextGen Neighborhoods project\, a program which enables NYCHA to generate revenue to reinvest back into their development sites by leveraging a 50-50 split of market-rate and affordable housing units though the construction of new housing units.\nPresentation and discussion with representatives for the Industrial Jobs Coalition which is composed of policy advocates\, business providers\, and non-profit developers from across the City to ensure economic equity for all New Yorkers but ensuring that the industrial and manufacturing sector continues to play a vital role.
URL:https://cobblehill.nyc/event/cb6-economic-development-and-housing-committee/
LOCATION:Wyckoff Gardens Community Center\, 280 Wyckoff Street\, Brooklyn\, NY\, 11217\, United States
CATEGORIES:Meetings
ATTACH;FMTTYPE=image/jpeg:https://cobblehill.nyc/wp-content/uploads/2017/03/CB6_economic-development.jpg
END:VEVENT
END:VCALENDAR