BEGIN:VCALENDAR
VERSION:2.0
PRODID:-//Cobble Hill Association - ECPv6.15.20//NONSGML v1.0//EN
CALSCALE:GREGORIAN
METHOD:PUBLISH
X-WR-CALNAME:Cobble Hill Association
X-ORIGINAL-URL:https://cobblehill.nyc
X-WR-CALDESC:Events for Cobble Hill Association
REFRESH-INTERVAL;VALUE=DURATION:PT1H
X-Robots-Tag:noindex
X-PUBLISHED-TTL:PT1H
BEGIN:VTIMEZONE
TZID:UTC
BEGIN:STANDARD
TZOFFSETFROM:+0000
TZOFFSETTO:+0000
TZNAME:UTC
DTSTART:20160101T000000
END:STANDARD
END:VTIMEZONE
BEGIN:VEVENT
DTSTART;TZID=UTC:20170510T183000
DTEND;TZID=UTC:20170510T200000
DTSTAMP:20260425T091402
CREATED:20170424T081008Z
LAST-MODIFIED:20170503T060718Z
UID:1903-1494441000-1494446400@cobblehill.nyc
SUMMARY:CB6 General Board Meeting
DESCRIPTION:View agenda here.
URL:https://cobblehill.nyc/event/cb6-general-board-meeting-5/
LOCATION:PS 32\, 317 Hoyt St.\, at Union St.\, Brooklyn\, NY\, United States
CATEGORIES:Meetings
ATTACH;FMTTYPE=image/jpeg:https://cobblehill.nyc/wp-content/uploads/2017/01/CB6_board.jpg
END:VEVENT
END:VCALENDAR