BEGIN:VCALENDAR
VERSION:2.0
PRODID:-//Cobble Hill Association - ECPv6.15.20//NONSGML v1.0//EN
CALSCALE:GREGORIAN
METHOD:PUBLISH
X-WR-CALNAME:Cobble Hill Association
X-ORIGINAL-URL:https://cobblehill.nyc
X-WR-CALDESC:Events for Cobble Hill Association
REFRESH-INTERVAL;VALUE=DURATION:PT1H
X-Robots-Tag:noindex
X-PUBLISHED-TTL:PT1H
BEGIN:VTIMEZONE
TZID:UTC
BEGIN:STANDARD
TZOFFSETFROM:+0000
TZOFFSETTO:+0000
TZNAME:UTC
DTSTART:20170101T000000
END:STANDARD
END:VTIMEZONE
BEGIN:VEVENT
DTSTART;TZID=UTC:20180524T180000
DTEND;TZID=UTC:20180524T193000
DTSTAMP:20260425T001718
CREATED:20180523T081735Z
LAST-MODIFIED:20180523T081735Z
UID:2412-1527184800-1527190200@cobblehill.nyc
SUMMARY:CB6 Landmarks and Land Use Committee Meeting
DESCRIPTION:Agenda\n\nCertificate of Appropriateness application for installation of an addition to the security vestibule at **181 Lincoln Place**\, Park Slope Historic District.\nCertificate of Appropriateness application for various front elevation changes\, including a new front door and newly finished stairs and handrails\, a two-story rear yard extension\, and a rooftop dormer extension at **149 Kane Street**\, Cobble Hill Historic District.\nCertificate of Appropriateness application for installation of simulated double-hung windows on the front facade\, a two-story rear yard extension with a deck\, and changes to the windows on the existing rear yard extension at **364 Clinton Street**\, Cobble Hill Historic District.
URL:https://cobblehill.nyc/event/cb6-landmarks-and-land-use-committee-meeting/
LOCATION:John Jay Educational Campus\, 237 7th Avenue\, Btwn 4th & 5th Streets\, Brooklyn\, NY\, 11215\, United States
CATEGORIES:Meetings,Civics
END:VEVENT
END:VCALENDAR