BEGIN:VCALENDAR
VERSION:2.0
PRODID:-//Cobble Hill Association - ECPv6.15.20//NONSGML v1.0//EN
CALSCALE:GREGORIAN
METHOD:PUBLISH
X-WR-CALNAME:Cobble Hill Association
X-ORIGINAL-URL:https://cobblehill.nyc
X-WR-CALDESC:Events for Cobble Hill Association
REFRESH-INTERVAL;VALUE=DURATION:PT1H
X-Robots-Tag:noindex
X-PUBLISHED-TTL:PT1H
BEGIN:VTIMEZONE
TZID:UTC
BEGIN:STANDARD
TZOFFSETFROM:+0000
TZOFFSETTO:+0000
TZNAME:UTC
DTSTART:20160101T000000
END:STANDARD
END:VTIMEZONE
BEGIN:VEVENT
DTSTART;TZID=UTC:20170926T183000
DTEND;TZID=UTC:20170926T200000
DTSTAMP:20260425T075721
CREATED:20170904T052323Z
LAST-MODIFIED:20170904T052323Z
UID:2189-1506450600-1506456000@cobblehill.nyc
SUMMARY:CB6 Parks/Recreation/Environmental Protection Committee Meeting
DESCRIPTION:Agenda\n\nOrientation: Rules\, regulations and procedures governing committee participation.\nPresentation and discussion with representatives from the Parks Department about the Park Slope Playground Synthetic Turf Project.\nTBA
URL:https://cobblehill.nyc/event/cb6-parksrecreationenvironmental-protection-committee-meeting-2/
LOCATION:Litchfield Villa\, 95 Prospect Park West\, Brooklyn\, NY\, 11215\, United States
CATEGORIES:Meetings
ATTACH;FMTTYPE=image/jpeg:https://cobblehill.nyc/wp-content/uploads/2017/03/CB6_parks.jpg
END:VEVENT
END:VCALENDAR