BEGIN:VCALENDAR
VERSION:2.0
PRODID:-//Cobble Hill Association - ECPv6.15.20//NONSGML v1.0//EN
CALSCALE:GREGORIAN
METHOD:PUBLISH
X-WR-CALNAME:Cobble Hill Association
X-ORIGINAL-URL:https://cobblehill.nyc
X-WR-CALDESC:Events for Cobble Hill Association
REFRESH-INTERVAL;VALUE=DURATION:PT1H
X-Robots-Tag:noindex
X-PUBLISHED-TTL:PT1H
BEGIN:VTIMEZONE
TZID:UTC
BEGIN:STANDARD
TZOFFSETFROM:+0000
TZOFFSETTO:+0000
TZNAME:UTC
DTSTART:20160101T000000
END:STANDARD
END:VTIMEZONE
BEGIN:VEVENT
DTSTART;TZID=UTC:20170424T183000
DTEND;TZID=UTC:20170424T200000
DTSTAMP:20260425T103751
CREATED:20170403T072707Z
LAST-MODIFIED:20170420T012608Z
UID:1814-1493058600-1493064000@cobblehill.nyc
SUMMARY:CB6 Permits & Licenses Committee Meeting
DESCRIPTION:Agenda\n\n Presentation and review of a new on-premises liquor license application submitted to the State Liquor Authority on behalf of Vandrey LLC at 257 Smith Street (between Douglass/Degraw Streets).\nPresentation and review of an alteration to a current on-premises liquor license application submitted to the State Liquor Authority on behalf of Pig Beach Brooklyn at 480 Union Street (between Bond Union /Nevins Streets).
URL:https://cobblehill.nyc/event/cb6-permits-licenses-committee-meeting-3/
LOCATION:Cobble Hill Community Room\, 250 Baltic Street\, Brooklyn\, NY\, 11201\, United States
CATEGORIES:Meetings
ATTACH;FMTTYPE=image/jpeg:https://cobblehill.nyc/wp-content/uploads/2016/09/CB6_permits.jpg
END:VEVENT
END:VCALENDAR