BEGIN:VCALENDAR
VERSION:2.0
PRODID:-//Cobble Hill Association - ECPv6.15.20//NONSGML v1.0//EN
CALSCALE:GREGORIAN
METHOD:PUBLISH
X-WR-CALNAME:Cobble Hill Association
X-ORIGINAL-URL:https://cobblehill.nyc
X-WR-CALDESC:Events for Cobble Hill Association
REFRESH-INTERVAL;VALUE=DURATION:PT1H
X-Robots-Tag:noindex
X-PUBLISHED-TTL:PT1H
BEGIN:VTIMEZONE
TZID:UTC
BEGIN:STANDARD
TZOFFSETFROM:+0000
TZOFFSETTO:+0000
TZNAME:UTC
DTSTART:20170101T000000
END:STANDARD
END:VTIMEZONE
BEGIN:VEVENT
DTSTART;TZID=UTC:20180529T183000
DTEND;TZID=UTC:20180529T200000
DTSTAMP:20260424T223846
CREATED:20180523T081906Z
LAST-MODIFIED:20180523T081906Z
UID:2414-1527618600-1527624000@cobblehill.nyc
SUMMARY:CB6 Permits & Licenses Committee Meeting
DESCRIPTION:Agenda\n\nPresentation and review of a new on-premises liquor license application submitted to the State Liquor Authority on behalf of Ramen USA Inc. DBA Tori Bei at **276 5th Avenue**(between Garfield Place/1st Streets).\nPresentation and review of a new on-premises liquor license application submitted to the State Liquor Authority on behalf of Wild Living LLC. DBA Wild Park Slope at **148 5th Avenue** (between Douglass/Degraw Streets).\nPresentation and review of a new on-premises liquor license application submitted to the State Liquor Authority on behalf of 452 Union Inc. at **450 Union Street** (between Bond/Union Streets).\nPresentation and review of a new on-premises liquor license application submitted to the State Liquor Authority on behalf of Lacivert LLC DBA Tava Turkish & Mediterranean Cuisine at **318 5th Avenue** (between 2nd/3rd Streets).\nPresentation and review of an alteration to a current on-premises liquor license submitted to the State Liquor Authority on behalf of B & D Restaurant Group Inc. DBA Bar Basic at **71 7th Avenue** (between Lincoln/ Berkeley Place) to permit the sale of Liquor\, wine and Beer in an existing Backyard space.
URL:https://cobblehill.nyc/event/cb6-permits-licenses-committee-meeting-4/
LOCATION:Cobble Hill Community Room\, 250 Baltic Street\, Brooklyn\, NY\, 11201\, United States
CATEGORIES:Meetings,Civics
END:VEVENT
END:VCALENDAR