BEGIN:VCALENDAR
VERSION:2.0
PRODID:-//Cobble Hill Association - ECPv6.15.20//NONSGML v1.0//EN
CALSCALE:GREGORIAN
METHOD:PUBLISH
X-WR-CALNAME:Cobble Hill Association
X-ORIGINAL-URL:https://cobblehill.nyc
X-WR-CALDESC:Events for Cobble Hill Association
REFRESH-INTERVAL;VALUE=DURATION:PT1H
X-Robots-Tag:noindex
X-PUBLISHED-TTL:PT1H
BEGIN:VTIMEZONE
TZID:UTC
BEGIN:STANDARD
TZOFFSETFROM:+0000
TZOFFSETTO:+0000
TZNAME:UTC
DTSTART:20150101T000000
END:STANDARD
END:VTIMEZONE
BEGIN:VEVENT
DTSTART;TZID=UTC:20160926T183000
DTEND;TZID=UTC:20160926T200000
DTSTAMP:20260425T121716
CREATED:20160921T083720Z
LAST-MODIFIED:20160921T083720Z
UID:925-1474914600-1474920000@cobblehill.nyc
SUMMARY:CB6 Permits/Licences Committee Meeting
DESCRIPTION:Agenda: \n\nOrientation: Introduction to committee work for new members.
URL:https://cobblehill.nyc/event/cb6-permitslicences-committee-meeting/
LOCATION:78th Precinct\, 65 6th Avenue\, Brooklyn\, NY\, 11217\, United States
CATEGORIES:Meetings
ATTACH;FMTTYPE=image/jpeg:https://cobblehill.nyc/wp-content/uploads/2016/09/CB6_permits.jpg
END:VEVENT
END:VCALENDAR