BEGIN:VCALENDAR
VERSION:2.0
PRODID:-//Cobble Hill Association - ECPv6.15.20//NONSGML v1.0//EN
CALSCALE:GREGORIAN
METHOD:PUBLISH
X-WR-CALNAME:Cobble Hill Association
X-ORIGINAL-URL:https://cobblehill.nyc
X-WR-CALDESC:Events for Cobble Hill Association
REFRESH-INTERVAL;VALUE=DURATION:PT1H
X-Robots-Tag:noindex
X-PUBLISHED-TTL:PT1H
BEGIN:VTIMEZONE
TZID:UTC
BEGIN:STANDARD
TZOFFSETFROM:+0000
TZOFFSETTO:+0000
TZNAME:UTC
DTSTART:20160101T000000
END:STANDARD
END:VTIMEZONE
BEGIN:VEVENT
DTSTART;TZID=UTC:20170828T183000
DTEND;TZID=UTC:20170828T200000
DTSTAMP:20260425T074734
CREATED:20170824T040327Z
LAST-MODIFIED:20170824T040327Z
UID:2175-1503945000-1503950400@cobblehill.nyc
SUMMARY:CB6 Permits/Licenses Committee Meeting
DESCRIPTION:Meeting Agenda:\n\nPresentation and review of a new on-premises liquor license application submitted to the State Liquor Authority on behalf of SC Brooklyn LLC at 230 5th Avenue (between Carroll Street/President Street).\nPresentation and review of a new on-premises sidewalk cafe application submitted to the Department of Consumer Affairs on behalf of Sami and Susu Food Inc. at 79 5th Avenue (between Park Place/Prospect Place).\nPresentation and review of a new on-premises liquor license application submitted to the State Liquor Authority on behalf of Izzys BBQ at 113 Hamilton Avenue (between Columbia Street/Woodhull Street).\nPresentation and review of a new on-premises liquor license application submitted to the State Liquor Authority on behalf of Bridies Bistro\, LLC at 256 4th Avenue (between Carroll Street/President Street).\n\nCommittee Chair:\nMichael Racioppo
URL:https://cobblehill.nyc/event/cb6-permitslicenses-committee-meeting/
LOCATION:Cobble Hill Community Room\, 250 Baltic Street\, Brooklyn\, NY\, 11201\, United States
CATEGORIES:Meetings
ATTACH;FMTTYPE=image/jpeg:https://cobblehill.nyc/wp-content/uploads/2016/09/CB6_permits.jpg
END:VEVENT
END:VCALENDAR