BEGIN:VCALENDAR
VERSION:2.0
PRODID:-//Cobble Hill Association - ECPv6.15.20//NONSGML v1.0//EN
CALSCALE:GREGORIAN
METHOD:PUBLISH
X-WR-CALNAME:Cobble Hill Association
X-ORIGINAL-URL:https://cobblehill.nyc
X-WR-CALDESC:Events for Cobble Hill Association
REFRESH-INTERVAL;VALUE=DURATION:PT1H
X-Robots-Tag:noindex
X-PUBLISHED-TTL:PT1H
BEGIN:VTIMEZONE
TZID:UTC
BEGIN:STANDARD
TZOFFSETFROM:+0000
TZOFFSETTO:+0000
TZNAME:UTC
DTSTART:20170101T000000
END:STANDARD
END:VTIMEZONE
BEGIN:VEVENT
DTSTART;TZID=UTC:20180517T183000
DTEND;TZID=UTC:20180517T200000
DTSTAMP:20260424T210121
CREATED:20180511T104629Z
LAST-MODIFIED:20180511T104629Z
UID:2369-1526581800-1526587200@cobblehill.nyc
SUMMARY:CB6 Transportation & Public Safety Meeting
DESCRIPTION:Agenda\n\nJOINT MEETING WITH BROOKLYN COMMUNITY BOARD TWO for an informational presentation from the NYC Department of Transportation outlining their proposal to replace the Brooklyn-Queens Expressway (I-278\, AKA the BQE) from Atlantic Avenue to Sands Street for the purpose of bringing the roadway up to safety standards; address structural conditions; fix flooding\, drainage and lighting issues; and improve traffic flow and pedestrian connectivity. For more information about this project\, visit the project website: BQE-I278.com
URL:https://cobblehill.nyc/event/cb6-transportation-public-safety-meeting/
LOCATION:6 MetroTech Center\, 6 MetroTech Center\, 1st floor\, MakerSpace Event Space\, entrance off Jay St.\, Brooklyn\, NY\, United States
CATEGORIES:Meetings,Civics
END:VEVENT
END:VCALENDAR