BEGIN:VCALENDAR
VERSION:2.0
PRODID:-//Cobble Hill Association - ECPv6.15.20//NONSGML v1.0//EN
CALSCALE:GREGORIAN
METHOD:PUBLISH
X-WR-CALNAME:Cobble Hill Association
X-ORIGINAL-URL:https://cobblehill.nyc
X-WR-CALDESC:Events for Cobble Hill Association
REFRESH-INTERVAL;VALUE=DURATION:PT1H
X-Robots-Tag:noindex
X-PUBLISHED-TTL:PT1H
BEGIN:VTIMEZONE
TZID:UTC
BEGIN:STANDARD
TZOFFSETFROM:+0000
TZOFFSETTO:+0000
TZNAME:UTC
DTSTART:20160101T000000
END:STANDARD
END:VTIMEZONE
BEGIN:VEVENT
DTSTART;TZID=UTC:20170615T183000
DTEND;TZID=UTC:20170615T200000
DTSTAMP:20260425T074657
CREATED:20170612T082653Z
LAST-MODIFIED:20170612T082653Z
UID:2038-1497551400-1497556800@cobblehill.nyc
SUMMARY:CB6 Transportation/Pubic Safety Committee
DESCRIPTION:Agenda\n\nPresentation by the Department of Transportation outlining preliminary plans for implementing the new\, City Council mandated two-year carshare pilot program.\nPresentation by the Department of Transportation outlining the Department’s on-going Smart Truck Management Plan.\nPresentation by Hornblower introducing the NYC Ferry’s newly launched South Brooklyn Ferry Route.
URL:https://cobblehill.nyc/event/cb6-transportationpubic-safety-committee/
LOCATION:Old First Reformed Church\, 729 Carroll Street\, Lower Hall\, Brooklyn\, NY\, 11215\, United States
CATEGORIES:Meetings,Civics
ATTACH;FMTTYPE=image/jpeg:https://cobblehill.nyc/wp-content/uploads/2017/01/CB6_transpo.jpg
END:VEVENT
END:VCALENDAR