BEGIN:VCALENDAR
VERSION:2.0
PRODID:-//Cobble Hill Association - ECPv6.15.20//NONSGML v1.0//EN
CALSCALE:GREGORIAN
METHOD:PUBLISH
X-WR-CALNAME:Cobble Hill Association
X-ORIGINAL-URL:https://cobblehill.nyc
X-WR-CALDESC:Events for Cobble Hill Association
REFRESH-INTERVAL;VALUE=DURATION:PT1H
X-Robots-Tag:noindex
X-PUBLISHED-TTL:PT1H
BEGIN:VTIMEZONE
TZID:UTC
BEGIN:STANDARD
TZOFFSETFROM:+0000
TZOFFSETTO:+0000
TZNAME:UTC
DTSTART:20200101T000000
END:STANDARD
END:VTIMEZONE
BEGIN:VEVENT
DTSTART;TZID=UTC:20210624T190000
DTEND;TZID=UTC:20210624T210000
DTSTAMP:20260425T062712
CREATED:20210623T220141Z
LAST-MODIFIED:20210623T235333Z
UID:2755-1624561200-1624568400@cobblehill.nyc
SUMMARY:CHA Annual Spring Meeting
DESCRIPTION:The CHA will be holding it’s Spring Meeting via Zoom on Thursday\, June 24th\, at 7pm. Tune in for updates on construction at the former LICH site\, upcoming community events\, BQE repair\, and much more.\nPlease RSVP if you can\, and don’t forget to renew your membership (or become a first time member). which you can do at: https://cobblehill.nyc/support/\n\n\nZoom link: https://zoom.us/j/92702805798\n 
URL:https://cobblehill.nyc/event/cha-annual-spring-meeting-2/
CATEGORIES:Meetings
ATTACH;FMTTYPE=image/png:https://cobblehill.nyc/wp-content/uploads/2021/06/Cobble-Hill-Association-1.png
END:VEVENT
END:VCALENDAR