BEGIN:VCALENDAR
VERSION:2.0
PRODID:-//Cobble Hill Association - ECPv6.15.20//NONSGML v1.0//EN
CALSCALE:GREGORIAN
METHOD:PUBLISH
X-WR-CALNAME:Cobble Hill Association
X-ORIGINAL-URL:https://cobblehill.nyc
X-WR-CALDESC:Events for Cobble Hill Association
REFRESH-INTERVAL;VALUE=DURATION:PT1H
X-Robots-Tag:noindex
X-PUBLISHED-TTL:PT1H
BEGIN:VTIMEZONE
TZID:UTC
BEGIN:STANDARD
TZOFFSETFROM:+0000
TZOFFSETTO:+0000
TZNAME:UTC
DTSTART:20170101T000000
END:STANDARD
END:VTIMEZONE
BEGIN:VEVENT
DTSTART;TZID=UTC:20180616T130000
DTEND;TZID=UTC:20180616T150000
DTSTAMP:20260425T062540
CREATED:20180610T223825Z
LAST-MODIFIED:20180610T223825Z
UID:2448-1529154000-1529161200@cobblehill.nyc
SUMMARY:FDNY Open House
DESCRIPTION:Hi neighbors! Come to the FDNY Open House on Saturday\, June 16\, and Sunday\, June 17! Visit your local firehouse and EMS station to take a tour\, view demonstrations\, learn fire and life safety tips\, explore FDNY careers\, receive a free smoke/CO alarm for your home\, and more! \nBoth the fire house at 274 Hicks Street in Brooklyn Heights and the fire house at 31 Richards Street in Red Hook will be open on Saturday\, June 16th from 1pm-3pm.
URL:https://cobblehill.nyc/event/fdny-open-house/
CATEGORIES:Civics
END:VEVENT
END:VCALENDAR