BEGIN:VCALENDAR
VERSION:2.0
PRODID:-//Cobble Hill Association - ECPv6.15.20//NONSGML v1.0//EN
CALSCALE:GREGORIAN
METHOD:PUBLISH
X-WR-CALNAME:Cobble Hill Association
X-ORIGINAL-URL:https://cobblehill.nyc
X-WR-CALDESC:Events for Cobble Hill Association
REFRESH-INTERVAL;VALUE=DURATION:PT1H
X-Robots-Tag:noindex
X-PUBLISHED-TTL:PT1H
BEGIN:VTIMEZONE
TZID:UTC
BEGIN:STANDARD
TZOFFSETFROM:+0000
TZOFFSETTO:+0000
TZNAME:UTC
DTSTART:20160101T000000
END:STANDARD
END:VTIMEZONE
BEGIN:VEVENT
DTSTART;TZID=UTC:20170430T160000
DTEND;TZID=UTC:20170430T173000
DTSTAMP:20260424T230721
CREATED:20170424T090354Z
LAST-MODIFIED:20170424T090354Z
UID:1915-1493568000-1493573400@cobblehill.nyc
SUMMARY:Grand Opening Event at Cobble Hill NY Kids Club
DESCRIPTION:Co-hosted by the CHA\, this event will include open play for up to 40 kids\, with wine and cheese for the parents\, and then a pizza party for the kids. You can RSVP at the link below. If you are bringing more than one child\, just list both of their names in the “Child’s name” field. \nRSVP to NY Kids Club Cobble Hill Grand Opening
URL:https://cobblehill.nyc/event/grand-opening-event-at-cobble-hill-ny-kids-club/
LOCATION:New York Kids Club Cobble Hill\, 299 Court Street\, Brooklyn\, NY\, 11231\, United States
CATEGORIES:Kids and Families
ATTACH;FMTTYPE=image/png:https://cobblehill.nyc/wp-content/uploads/2017/04/y1-FW_qJ.png
END:VEVENT
END:VCALENDAR