BEGIN:VCALENDAR
VERSION:2.0
PRODID:-//Cobble Hill Association - ECPv6.15.20//NONSGML v1.0//EN
CALSCALE:GREGORIAN
METHOD:PUBLISH
X-WR-CALNAME:Cobble Hill Association
X-ORIGINAL-URL:https://cobblehill.nyc
X-WR-CALDESC:Events for Cobble Hill Association
REFRESH-INTERVAL;VALUE=DURATION:PT1H
X-Robots-Tag:noindex
X-PUBLISHED-TTL:PT1H
BEGIN:VTIMEZONE
TZID:UTC
BEGIN:STANDARD
TZOFFSETFROM:+0000
TZOFFSETTO:+0000
TZNAME:UTC
DTSTART:20150101T000000
END:STANDARD
END:VTIMEZONE
BEGIN:VEVENT
DTSTART;TZID=UTC:20161027T183000
DTEND;TZID=UTC:20161027T200000
DTSTAMP:20260425T120637
CREATED:20161025T073318Z
LAST-MODIFIED:20161025T073318Z
UID:991-1477593000-1477598400@cobblehill.nyc
SUMMARY:Kick-Off Meeting: Gowanus Neighborhood Planning Study with the NYC Department of City Planning
DESCRIPTION:A kick off meeting for the Gowanus Neighborhood Planning study.
URL:https://cobblehill.nyc/event/kick-off-meeting-gowanus-neighborhood-planning-study-with-the-nyc-department-of-city-planning/
LOCATION:PS 32\, 317 Hoyt St.\, at Union St.\, Brooklyn\, NY\, United States
CATEGORIES:Meetings
ATTACH;FMTTYPE=image/jpeg:https://cobblehill.nyc/wp-content/uploads/2016/10/Gowanus_PLACES.jpg
END:VEVENT
END:VCALENDAR