BEGIN:VCALENDAR
VERSION:2.0
PRODID:-//Cobble Hill Association - ECPv6.15.20//NONSGML v1.0//EN
CALSCALE:GREGORIAN
METHOD:PUBLISH
X-WR-CALNAME:Cobble Hill Association
X-ORIGINAL-URL:https://cobblehill.nyc
X-WR-CALDESC:Events for Cobble Hill Association
REFRESH-INTERVAL;VALUE=DURATION:PT1H
X-Robots-Tag:noindex
X-PUBLISHED-TTL:PT1H
BEGIN:VTIMEZONE
TZID:UTC
BEGIN:STANDARD
TZOFFSETFROM:+0000
TZOFFSETTO:+0000
TZNAME:UTC
DTSTART:20160101T000000
END:STANDARD
END:VTIMEZONE
BEGIN:VEVENT
DTSTART;TZID=UTC:20170428T180000
DTEND;TZID=UTC:20170428T200000
DTSTAMP:20260425T092356
CREATED:20170406T082636Z
LAST-MODIFIED:20170406T082929Z
UID:1833-1493402400-1493409600@cobblehill.nyc
SUMMARY:Resident Empowerment Training Series: Building Capacity and Outreach
DESCRIPTION:Free 6 week community organizing training series for people who live and work in Southwest Brooklyn. Register with Tevina Willios ataestheticsoulcommunity@gmail.com or call 347-469-3261
URL:https://cobblehill.nyc/event/resident-empowerment-training-series-building-capacity-and-outreach/
CATEGORIES:Civics
ATTACH;FMTTYPE=image/png:https://cobblehill.nyc/wp-content/uploads/2017/04/RETFlyer.png
END:VEVENT
END:VCALENDAR