BEGIN:VCALENDAR
VERSION:2.0
PRODID:-//Cobble Hill Association - ECPv6.15.20//NONSGML v1.0//EN
CALSCALE:GREGORIAN
METHOD:PUBLISH
X-WR-CALNAME:Cobble Hill Association
X-ORIGINAL-URL:https://cobblehill.nyc
X-WR-CALDESC:Events for Cobble Hill Association
REFRESH-INTERVAL;VALUE=DURATION:PT1H
X-Robots-Tag:noindex
X-PUBLISHED-TTL:PT1H
BEGIN:VTIMEZONE
TZID:UTC
BEGIN:STANDARD
TZOFFSETFROM:+0000
TZOFFSETTO:+0000
TZNAME:UTC
DTSTART:20210101T000000
END:STANDARD
END:VTIMEZONE
BEGIN:VEVENT
DTSTART;TZID=UTC:20220510T080000
DTEND;TZID=UTC:20220510T170000
DTSTAMP:20260425T062630
CREATED:20220511T033555Z
LAST-MODIFIED:20220511T200858Z
UID:2826-1652169600-1652202000@cobblehill.nyc
SUMMARY:Spring Board Meeting
DESCRIPTION:On May 10th the Nominating Committee announced the slate of nominees for the Cobble Hill Association Board\, the first of a recently expanded board with staggered terms. The new board members\, posted below\, will be up for election at the CHA’s virtual spring board meeting on May 25\, 2022 from 6pm-8pm. More information on our annual meeting\, is forthcoming. In the meantime\, please be sure to save the date on your calendar. \nJoin Zoom Meeting\nhttps://us06web.zoom.us/j/81730288668 \nWe want to thank the Nominating Committee for its hard work interviewing candidates and selecting the final nominees. We also thank all of those who came forward for consideration. \nMembers in good standing within Cobble Hill can vote to elect the new executive board at the Annual Meeting. Please renew your membership or join for the first time HERE. \n  \nOfficers\, Three-Year Term \nAmanda Sue Nichols   President \nDaniel Carr                    Vice President \nBennette Kramer         Secretary \nJonathan Minkoff        Treasurer \nDirectors\, two-Year Term \nToby Cecchini \nJoe Finnerty \nAllie Peterson \nJillian Schiavi \nDirectors\, One-Year Term \nEzana Bocresion \nRebecca Johnson \nJosh Vogel \n  \nThe Nominating Committee will report the nominations to the membership at the meeting on May 25 at which time additional nominations may be made from the floor. [CHA bylaws Article 7 Section 3 (d)]
URL:https://cobblehill.nyc/event/spring-board-meeting/
CATEGORIES:Meetings
ATTACH;FMTTYPE=image/jpeg:https://cobblehill.nyc/wp-content/uploads/2022/05/Cobble_Hill_Brooklyn_Verdanah_Place-a42071.jpeg
END:VEVENT
END:VCALENDAR