BEGIN:VCALENDAR
VERSION:2.0
PRODID:-//Cobble Hill Association - ECPv6.15.20//NONSGML v1.0//EN
CALSCALE:GREGORIAN
METHOD:PUBLISH
X-WR-CALNAME:Cobble Hill Association
X-ORIGINAL-URL:https://cobblehill.nyc
X-WR-CALDESC:Events for Cobble Hill Association
REFRESH-INTERVAL;VALUE=DURATION:PT1H
X-Robots-Tag:noindex
X-PUBLISHED-TTL:PT1H
BEGIN:VTIMEZONE
TZID:UTC
BEGIN:STANDARD
TZOFFSETFROM:+0000
TZOFFSETTO:+0000
TZNAME:UTC
DTSTART:20160101T000000
END:STANDARD
END:VTIMEZONE
BEGIN:VEVENT
DTSTART;TZID=UTC:20170427T150000
DTEND;TZID=UTC:20170427T200000
DTSTAMP:20260425T120253
CREATED:20170405T101708Z
LAST-MODIFIED:20170405T102122Z
UID:1816-1493305200-1493323200@cobblehill.nyc
SUMMARY:Taste of Brooklyn's Spring Carroll Gardens-Cobble Hill Restaurant Crawl
DESCRIPTION:Do you love these historic neighborhoods? Want to try their fantastic food and drink and support local business? \nThen\, take a walk south of Atlantic Avenue along Court\, Henry and Smith Streets to sample fine cuisine and drinks. Dozens of local chefs\, mixologists\, food establishments\, historic and new\, are offering sumptuous seasonal fare right at their doors. \nLocal shops will have coupon deals. Let’s promote local and empower kids in food deserts in central Brooklyn to create healthy neighborhoods\, too! \nBuy tickets now or visit tastesofbrooklyn.com\nto join us Thursday\, April 27\, 3-8 pm for dishes inspired by worthy causes – empowering kids to eat fresh with Seeds in the Middle and elephants! \nThanks to all our restaurants and participants! \nAugust Laura\, Avlee Greek Kitchen\, Awash\, Bornholm\, Brooklyn Farmacy and Soda Fountain\, Brooklyn Strategist\, Caputo Bakery\, Caputo’s Fine Foods\, Cobble Hill Coffee Shop\, D’Amico Coffee Roasters\, F.O.B.\, F. Esposito and Sons\, Fawkner\, Kor Tor Mor\, La Cigogne\, Marco Polo Ristorante\, F. Monteleone Bakery and Cafe\, Purbird\, Sahadi’s\, Scotto’s Wine Cellar\, Smith and Vine\, Stinky Brooklyn\, Sunken Hundred\,  Take a Break and I’ll Bake Cafe and Creperie and Ambrosial Harvest\, Owl’s Brew … more to come… \nAttention!\nRestaurants\, chefs\, artisans\, artists\, shops\, guest culinary talent! You’re still welcome to join! Go to: bit.ly/FoodCrawl2017 \nThanks to our sponsors:\nYELP\, Court Smith Bid\, Kathi Littwin Photography \nFor more information and tickets\, email\ntastesofbrooklyn@gmail.com\nor visit\nwww.tastesofbrooklyn.com
URL:https://cobblehill.nyc/event/taste-of-brooklyns-spring-carroll-gardens-cobble-hill-restaurant-crawl/
ATTACH;FMTTYPE=image/jpeg:https://cobblehill.nyc/wp-content/uploads/2017/04/bktastes10.11-collagej-1.jpg
END:VEVENT
END:VCALENDAR