BEGIN:VCALENDAR
VERSION:2.0
PRODID:-//Cobble Hill Association - ECPv6.15.20//NONSGML v1.0//EN
CALSCALE:GREGORIAN
METHOD:PUBLISH
X-WR-CALNAME:Cobble Hill Association
X-ORIGINAL-URL:https://cobblehill.nyc
X-WR-CALDESC:Events for Cobble Hill Association
REFRESH-INTERVAL;VALUE=DURATION:PT1H
X-Robots-Tag:noindex
X-PUBLISHED-TTL:PT1H
BEGIN:VTIMEZONE
TZID:UTC
BEGIN:STANDARD
TZOFFSETFROM:+0000
TZOFFSETTO:+0000
TZNAME:UTC
DTSTART:20170101T000000
END:STANDARD
END:VTIMEZONE
BEGIN:VEVENT
DTSTART;TZID=UTC:20180920T173000
DTEND;TZID=UTC:20180920T193000
DTSTAMP:20260425T062931
CREATED:20180920T162759Z
LAST-MODIFIED:20180920T162815Z
UID:2496-1537464600-1537471800@cobblehill.nyc
SUMMARY:TONIGHT: Public Meeting – New Brooklyn Jail Facility on Atlantic Ave.
DESCRIPTION:Read our statement here on the new Brooklyn Jail Facility being proposed on Atlantic Ave. Please come out tonight to attend and make sure our community’s voice is heard. \n 
URL:https://cobblehill.nyc/event/tonight-public-meeting-new-brooklyn-jail-facility-on-atlantic-ave/
LOCATION:William A. Butler School\, 610 Butler St.\, Brooklyn\, NY\, 11217\, United States
CATEGORIES:Meetings
ATTACH;FMTTYPE=image/jpeg:https://cobblehill.nyc/wp-content/uploads/2018/09/ch.jpg
ORGANIZER;CN="":MAILTO:matt.desiena@gmail.com
END:VEVENT
END:VCALENDAR