BEGIN:VCALENDAR
VERSION:2.0
PRODID:-//Cobble Hill Association - ECPv6.15.20//NONSGML v1.0//EN
CALSCALE:GREGORIAN
METHOD:PUBLISH
X-WR-CALNAME:Cobble Hill Association
X-ORIGINAL-URL:https://cobblehill.nyc
X-WR-CALDESC:Events for Cobble Hill Association
REFRESH-INTERVAL;VALUE=DURATION:PT1H
X-Robots-Tag:noindex
X-PUBLISHED-TTL:PT1H
BEGIN:VTIMEZONE
TZID:UTC
BEGIN:STANDARD
TZOFFSETFROM:+0000
TZOFFSETTO:+0000
TZNAME:UTC
DTSTART:20160101T000000
END:STANDARD
END:VTIMEZONE
BEGIN:VEVENT
DTSTART;TZID=UTC:20170216T183000
DTEND;TZID=UTC:20170216T200000
DTSTAMP:20260425T103325
CREATED:20170214T130946Z
LAST-MODIFIED:20170214T131459Z
UID:1588-1487269800-1487275200@cobblehill.nyc
SUMMARY:CB6 Transportation/Pubic Safety Committee
DESCRIPTION:Agenda\n\nPresentation and review of a proposal by the Department of Transportation to re-install temporary seasonal seating in the parking lane in front of 63 5th Avenue (southeast corner St. Marks/5th Avenues)\, under the City’s Street Seats program.\nPresentation and continued review of a proposal by the Department of Transportation for the installation of safety enhancements for the intersection of Court/Amity/Dean Streets in Cobble Hill.\n\nhttp://www1.nyc.gov/site/brooklyncb6/calendar/calendar.page
URL:https://cobblehill.nyc/event/transportationpubic-safety-committee-2/
LOCATION:Cobble Hill Community Room\, 250 Baltic Street\, Brooklyn\, NY\, 11201\, United States
CATEGORIES:Meetings
ATTACH;FMTTYPE=image/jpeg:https://cobblehill.nyc/wp-content/uploads/2017/01/CB6_transpo.jpg
END:VEVENT
END:VCALENDAR