BEGIN:VCALENDAR
VERSION:2.0
PRODID:-//Cobble Hill Association - ECPv6.15.20//NONSGML v1.0//EN
CALSCALE:GREGORIAN
METHOD:PUBLISH
X-WR-CALNAME:Cobble Hill Association
X-ORIGINAL-URL:https://cobblehill.nyc
X-WR-CALDESC:Events for Cobble Hill Association
REFRESH-INTERVAL;VALUE=DURATION:PT1H
X-Robots-Tag:noindex
X-PUBLISHED-TTL:PT1H
BEGIN:VTIMEZONE
TZID:UTC
BEGIN:STANDARD
TZOFFSETFROM:+0000
TZOFFSETTO:+0000
TZNAME:UTC
DTSTART:20160101T000000
END:STANDARD
END:VTIMEZONE
BEGIN:VEVENT
DTSTART;TZID=UTC:20170322T183000
DTEND;TZID=UTC:20170322T203000
DTSTAMP:20260425T103054
CREATED:20170309T103935Z
LAST-MODIFIED:20170309T103935Z
UID:1725-1490207400-1490214600@cobblehill.nyc
SUMMARY:Whose Park? Equity in NYC's Green Spaces
DESCRIPTION:The following is a Brooklyn Historical Society event. \nIn our congested city\, parks and green spaces aim to provide some respite for all. But do they indeed serve every New Yorker equally? Is sharing our green space more easily said than d\none? Tupper Thomas\, former Executive Director of New Yorkers for Parks\, moderates a candid discussion with Ford Foundation President Darren Walker\, former Brooklyn Bridge Park President Regina Myer\, and Brooklyn Deputy Borough President Diana Reyna about parks\, equity\, and the complicated mediation between users. \n$10 / $5 for Brooklyn Historical Society Members \nReserve tickets \nOriginal Listing
URL:https://cobblehill.nyc/event/whose-park-equity-in-nycs-green-spaces/
LOCATION:Brooklyn Historical Society\, 128 Pierrepont Street\, Brooklyn\, 11201\, United States
CATEGORIES:Civics
ATTACH;FMTTYPE=image/png:https://cobblehill.nyc/wp-content/uploads/2017/03/BHS_parks.png
END:VEVENT
END:VCALENDAR