BEGIN:VCALENDAR
VERSION:2.0
PRODID:-//Cobble Hill Association - ECPv6.15.20//NONSGML v1.0//EN
CALSCALE:GREGORIAN
METHOD:PUBLISH
X-WR-CALNAME:Cobble Hill Association
X-ORIGINAL-URL:https://cobblehill.nyc
X-WR-CALDESC:Events for Cobble Hill Association
REFRESH-INTERVAL;VALUE=DURATION:PT1H
X-Robots-Tag:noindex
X-PUBLISHED-TTL:PT1H
BEGIN:VTIMEZONE
TZID:America/New_York
BEGIN:DAYLIGHT
TZOFFSETFROM:-0500
TZOFFSETTO:-0400
TZNAME:EDT
DTSTART:20250309T070000
END:DAYLIGHT
BEGIN:STANDARD
TZOFFSETFROM:-0400
TZOFFSETTO:-0500
TZNAME:EST
DTSTART:20251102T060000
END:STANDARD
BEGIN:DAYLIGHT
TZOFFSETFROM:-0500
TZOFFSETTO:-0400
TZNAME:EDT
DTSTART:20260308T070000
END:DAYLIGHT
BEGIN:STANDARD
TZOFFSETFROM:-0400
TZOFFSETTO:-0500
TZNAME:EST
DTSTART:20261101T060000
END:STANDARD
BEGIN:DAYLIGHT
TZOFFSETFROM:-0500
TZOFFSETTO:-0400
TZNAME:EDT
DTSTART:20270314T070000
END:DAYLIGHT
BEGIN:STANDARD
TZOFFSETFROM:-0400
TZOFFSETTO:-0500
TZNAME:EST
DTSTART:20271107T060000
END:STANDARD
END:VTIMEZONE
BEGIN:VEVENT
DTSTART;TZID=America/New_York:20260509T100000
DTEND;TZID=America/New_York:20260509T120000
DTSTAMP:20260423T115633
CREATED:20260415T200000Z
LAST-MODIFIED:20260422T211906Z
UID:5254-1778320800-1778328000@cobblehill.nyc
SUMMARY:Cobble Hill Historic Walking Tour
DESCRIPTION:The Cobble Hill Association is sponsoring a Historic Walking Tour of Cobble Hill. Guided by licensed New York City tour guide Hank Orenstein\, you’ll journey through time: from Cobble Hill’s Indigenous origins to the present day (with some fun facts from the CHA archives once you reach the 1950s). More details on the tour will be provided on this page soon.  \n\n\n\nThis is a limited-space event (25 spots). Registration opens first to members on April 15th at 4pm\, and if space remains\, non-member registration opens April 20th. Children age 12 and older need their own RSVP (but not their own membership). You may only sign up for two spots\, and for member early sign up\, both attendees must be CHA members.  \n\n\n\nNon-members who sign up before April 20th will be removed from the list and need to re-register when general registration opens up on the 20th. \n\n\n\nPlease note: the form will time-stamp responses for us\, but you won’t know when you sign up whether or not you are on the waitlist. We will work to get that information shared as soon as possible.   \n\n\n\nRain Date: May 16th\, 10am-12pm \n\n\n\nThe sign up is currently full. We will open it back up if spaces become available.
URL:https://cobblehill.nyc/event/cobble-hill-historic-walking-tour-2/
END:VEVENT
BEGIN:VEVENT
DTSTART;TZID=America/New_York:20260516T090000
DTEND;TZID=America/New_York:20260516T110000
DTSTAMP:20260423T115633
CREATED:20260406T184113Z
LAST-MODIFIED:20260406T184115Z
UID:5220-1778922000-1778929200@cobblehill.nyc
SUMMARY:Cobble Hill Park Spring Maintenance Volunteer Day #2
DESCRIPTION:This is the second of three Spring 2026 volunteer events in Cobble Hill Park. Please consider attending to help us maintain and beautify the park. All or welcome! This is a great opportunity to keep the park looking good AND to meet your neighbors. Win-win! Please RSVP to cobblehillparkCHA@gmail.com by so we know how many supplies to get and how big of projects we can take on.  \n\n\n\nRain date is Sunday\, May 17th.
URL:https://cobblehill.nyc/event/cobble-hill-park-spring-maintenance-volunteer-day-2/
END:VEVENT
BEGIN:VEVENT
DTSTART;TZID=America/New_York:20260528T180000
DTEND;TZID=America/New_York:20260528T200000
DTSTAMP:20260423T115633
CREATED:20260406T185156Z
LAST-MODIFIED:20260406T185228Z
UID:5224-1779991200-1779998400@cobblehill.nyc
SUMMARY:Cobble Hill Association Annual Spring Meeting 2026
DESCRIPTION:All are invited to attend our Annual Spring Meeting on Thursday\, May 28th at Christ Church (326 Clinton Street) from 6-8pm. At this meeting you’ll hear neighborhood updates from the Cobble Hill Association board\, as well our local elected officials (or their representatives). Our Spring Meeting is also where we hold elections for new Board members (more below).  \n\n\n\nIf you plan to attend in person\, please RSVP so we know how many chairs to set up. We are unlikely to hit capacity for the venue\, but if we do\, priority will go to members and those who have RSVP’d.  \n\n\n\n\n\nIs there something specific you would like the CHA to address\, we encourage you to email us ahead of time at cha@cobblehill.nyc.  \n\n\n\nAt the meeting on May 28th\, the Nominating Committee will report the nominations for the CHA Board to the membership\, at which time CHA members may make additional nominations from the floor. [CHA bylaws Article 7 Section 3 (d)]. Although anyone who wants to can and should attend the meeting in person\, only those members who live within the Cobble Hill Historic District (and are physically present) will be able to vote. Not a member yet? Please consider joining and add your voice to those who care about our community! Unsure if your membership is up to date? Email membership@cobblehill.nyc and we can check for you.  \n\n\n\nThe slate of candidates and a more detailed agenda will be provided as we get closer to the meeting date.
URL:https://cobblehill.nyc/event/cobble-hill-association-annual-spring-meeting-2026/
END:VEVENT
BEGIN:VEVENT
DTSTART;TZID=America/New_York:20260613T090000
DTEND;TZID=America/New_York:20260613T110000
DTSTAMP:20260423T115633
CREATED:20260406T184533Z
LAST-MODIFIED:20260406T184536Z
UID:5222-1781341200-1781348400@cobblehill.nyc
SUMMARY:Cobble Hill Park Spring Maintenance Volunteer Day #3
DESCRIPTION:This is the third of three Spring 2026 volunteer events in Cobble Hill Park. Please consider attending to help us maintain and beautify the park. All or welcome! This is a great opportunity to keep the park looking good AND to meet your neighbors. Win-win! Please RSVP to cobblehillparkCHA@gmail.com by so we know how many supplies to get and how big of projects we can take on.  \n\n\n\nRain date is Sunday\, June 14th.
URL:https://cobblehill.nyc/event/cobble-hill-park-spring-maintenance-volunteer-day-3/
END:VEVENT
END:VCALENDAR