BEGIN:VCALENDAR
VERSION:2.0
PRODID:-//Cobble Hill Association - ECPv6.15.20//NONSGML v1.0//EN
CALSCALE:GREGORIAN
METHOD:PUBLISH
X-WR-CALNAME:Cobble Hill Association
X-ORIGINAL-URL:https://cobblehill.nyc
X-WR-CALDESC:Events for Cobble Hill Association
REFRESH-INTERVAL;VALUE=DURATION:PT1H
X-Robots-Tag:noindex
X-PUBLISHED-TTL:PT1H
BEGIN:VTIMEZONE
TZID:UTC
BEGIN:STANDARD
TZOFFSETFROM:+0000
TZOFFSETTO:+0000
TZNAME:UTC
DTSTART:20150101T000000
END:STANDARD
END:VTIMEZONE
BEGIN:VEVENT
DTSTART;TZID=UTC:20170607T193000
DTEND;TZID=UTC:20170607T210000
DTSTAMP:20260425T075222
CREATED:20170406T083749Z
LAST-MODIFIED:20170406T083807Z
UID:1839-1496863800-1496869200@cobblehill.nyc
SUMMARY:NYPD Precent 76 Community Council
DESCRIPTION:President: Jerry Armer\nMeetings: The 76th Precinct community council meets the first Wednesday of each month at the 76th Precinct at 7:30 P.M.  \nHear the latest updates from the seven six and last month’s CompStat data. There is a discussion of public safety issues. The meeting is free and open to the public.
URL:https://cobblehill.nyc/event/nypd-precent-76-community-council-3/
LOCATION:NYPD Precinct 76\, 191 Union Street\, Brooklyn\, 11231\, United States
CATEGORIES:Meetings,Civics
ATTACH;FMTTYPE=image/jpeg:https://cobblehill.nyc/wp-content/uploads/2017/03/NYPD_76.jpg
END:VEVENT
BEGIN:VEVENT
DTSTART;TZID=UTC:20170531T190000
DTEND;TZID=UTC:20170531T203000
DTSTAMP:20260425T075222
CREATED:20170427T164351Z
LAST-MODIFIED:20170525T190323Z
UID:1934-1496257200-1496262600@cobblehill.nyc
SUMMARY:CHA Annual Spring Meeting
DESCRIPTION:Dear Cobble Hill Community\,\nWe look forward to seeing you next Wednesday night. \nCHA Annual Spring Meeting\nMay 31\, 2017 at 7pm\nBrooklyn Heights Montessori \n\n\n  \n  \n  \nAGENDA\n\nCHA President – Amy Breedlove (7:00 – 7:20)\n\nWelcome –Update\nCHA – Civic Organization\nAdvocating for the community – What we’ve done\n\n\nTreasure’s report – Charles “Chip” McEnhill (7:20 – 7:25)\nCouncilmember Brad Lander (7:25 – 7:40)\nState Senator Daniel Squadron (7:40 – 7:50)\nNYPD NCO – PO Lauren Maragni (7:50 – 7:55)\nNYC City Comptroller Scott Stringer (7:55 – 8:05)\nQuestion and Answer Period (8:05 -8:30)* – Michael Epstein\, CHA First VP\n\nElected Officials will stay for the Q&A period\nDOB representative\n\n\nClosing Remarks and Adjourn the meeting\n\n\nAudience  – hold all questions until the end of the meeting\n\nPLEASE JOIN THE COBBLE HILL ASSOCIATION! \nMemberships run from May 1st-April 31st.\nAvoid lines and save time please sign up prior to the May 31st meeting. \nCobble Hill faces many challenges in the near future. That means we need to build our dues-paying membership\, and also increase dues. This is the first time in more than ten years that dues have been raised. The new dues levels are as follows: \nSenior/Student  — $ 25\nIndividual Member — $ 35\nHousehold Member — $ 70\nBrownstoner — $ 100\nGood Neighbor — $ 250\nLandmark — $ 500 \nThere are three ways to join CHA: \n\nOnline at the CHA’s new website\, cobblehill.nyc/support\nIn person at the May 31st meeting.\nThrough the mail\, by sending a check\, made out to the Cobble Hill Association\, to:  CHA\, PO Box 376\, Brooklyn NY 11201 —- Please be sure to add your name\, address\, phone number\, and email address\n\nNew Membership benefit: Discounts at participating local merchants\nThe CHA Membership Committee will send members a card to present to local merchants who are participating in a new CHA program designed to bring our business neighbors together with CHA members. Participating businesses will offer CHA members special deals and discounts that will be posted on the CHA website and on Facebook.
URL:https://cobblehill.nyc/event/cha-annual-spring-meeting/
LOCATION:Brooklyn Heights Montessori\, 185 Court Street\, Brooklyn\, NY\, 11201\, United States
CATEGORIES:Meetings,Civics
ATTACH;FMTTYPE=image/jpeg:https://cobblehill.nyc/wp-content/uploads/2016/11/cobble_hill_park_1-1.jpg
END:VEVENT
BEGIN:VEVENT
DTSTART;TZID=UTC:20170513T133000
DTEND;TZID=UTC:20170513T153000
DTSTAMP:20260425T075222
CREATED:20170406T082817Z
LAST-MODIFIED:20170406T082817Z
UID:1835-1494682200-1494689400@cobblehill.nyc
SUMMARY:Resident Empowerment Training Series: Take Your Fight to Court!
DESCRIPTION:Free 6 week community organizing training series for people who live and work in Southwest Brooklyn. Register with Tevina Willios at aestheticsoulcommunity@gmail.com or call 347-469-3261
URL:https://cobblehill.nyc/event/resident-empowerment-training-series-take-your-fight-to-court/
LOCATION:Red Hook Initiative\, 767 Hicks Street\, Brooklyn\, NY\, 11231\, United States
CATEGORIES:Civics
ATTACH;FMTTYPE=image/png:https://cobblehill.nyc/wp-content/uploads/2017/04/RETFlyer.png
END:VEVENT
BEGIN:VEVENT
DTSTART;TZID=UTC:20170503T193000
DTEND;TZID=UTC:20170503T210000
DTSTAMP:20260425T075222
CREATED:20170406T083154Z
LAST-MODIFIED:20250509T151800Z
UID:1837-1493839800-1493845200@cobblehill.nyc
SUMMARY:NYPD Precent 76 Community Council
DESCRIPTION:President: Jerry Armer Meetings: The 76th Precinct community council meets the first Wednesday of each month at the 76th Precinct at 7:30 P.M.  Hear the latest updates from the seven six and last month’s CompStat data. There is a discussion of public safety issues. The meeting is free and open to the public. \n\n\n\n\n\n\n\n\n\n 
URL:https://cobblehill.nyc/event/nypd-precent-76-community-council-2/
LOCATION:NYPD Precinct 76\, 191 Union Street\, Brooklyn\, 11231\, United States
CATEGORIES:Meetings,Civics
ATTACH;FMTTYPE=image/jpeg:https://cobblehill.nyc/wp-content/uploads/2017/03/NYPD_76.jpg
END:VEVENT
BEGIN:VEVENT
DTSTART;TZID=UTC:20170428T180000
DTEND;TZID=UTC:20170428T200000
DTSTAMP:20260425T075222
CREATED:20170406T082636Z
LAST-MODIFIED:20170406T082929Z
UID:1833-1493402400-1493409600@cobblehill.nyc
SUMMARY:Resident Empowerment Training Series: Building Capacity and Outreach
DESCRIPTION:Free 6 week community organizing training series for people who live and work in Southwest Brooklyn. Register with Tevina Willios ataestheticsoulcommunity@gmail.com or call 347-469-3261
URL:https://cobblehill.nyc/event/resident-empowerment-training-series-building-capacity-and-outreach/
LOCATION:NY
CATEGORIES:Civics
ATTACH;FMTTYPE=image/png:https://cobblehill.nyc/wp-content/uploads/2017/04/RETFlyer.png
END:VEVENT
BEGIN:VEVENT
DTSTART;TZID=UTC:20170423T140000
DTEND;TZID=UTC:20170423T170000
DTSTAMP:20260425T075222
CREATED:20170415T061355Z
LAST-MODIFIED:20170417T070155Z
UID:1856-1492956000-1492966800@cobblehill.nyc
SUMMARY:NYS Senator Squadron Community Convention
DESCRIPTION:Every year\, Daniel Squadron hosts his Convention to discuss what’s happening locally. This year\, he wants to highlight how what we make happen locally can address what’s happening nationally. Whether you’re happy with what you’re seeing in government\, or concerned\, the Convention is an opportunity to make the national fight local.  \nJoin others in your community on Sunday\, April 23rd from 2-5 p.m. at Stuyvesant High School\, 345 Chambers St\, in Manhattan. \nPlease RSVP to State Senator Squadron’s office at https://www.nysenate.gov/initiatives/daniel-l-squadron/rsvp-senator-squadrons-community-convention.
URL:https://cobblehill.nyc/event/nys-senator-squadron-community-convention/
LOCATION:Stuyvesant High School\, 345 Chambers St\, New York\, NY\, 10282\, United States
CATEGORIES:Civics
ATTACH;FMTTYPE=image/jpeg:https://cobblehill.nyc/wp-content/uploads/2017/04/dear_friend_header-e1492398098568.jpg
END:VEVENT
BEGIN:VEVENT
DTSTART;TZID=UTC:20170419T183000
DTEND;TZID=UTC:20170419T200000
DTSTAMP:20260425T075222
CREATED:20170415T051735Z
LAST-MODIFIED:20170415T054615Z
UID:1847-1492626600-1492632000@cobblehill.nyc
SUMMARY:CB6 Parks/ Recreation/ Environmental Protection Committee Meeting
DESCRIPTION:Agenda\n\nPresentation and discussion with a representative for New York State Department of Environmental Conservation on the state’s Ocean Action Plan\, a coordinated and inclusive effort focused on improving the health of our ocean ecosystems and their capacity to provide sustainable benefits to New Yorkers.\nPresentation and discussion with a representative for the US Forest Service on their Stewardship Mapping and Assessment Project (STEW-MAP)\, a mapping tool and database of organizations designed to help understand and strengthen the civic capacity to take care of New York’s neighborhoods\, and to introduce the soon-to-be rolled out STEW-MAP 2017 survey.
URL:https://cobblehill.nyc/event/cb6-parksrecreationenvironmental-protection-committee-meeting/
LOCATION:PS 58\, 330 Smith Street (at First Place)\, Brooklyn\, NY\, 11231\, United States
CATEGORIES:Civics
ATTACH;FMTTYPE=image/jpeg:https://cobblehill.nyc/wp-content/uploads/2017/03/CB6_parks.jpg
END:VEVENT
BEGIN:VEVENT
DTSTART;TZID=UTC:20170415T133000
DTEND;TZID=UTC:20170415T153000
DTSTAMP:20260425T075222
CREATED:20170406T082406Z
LAST-MODIFIED:20170406T082544Z
UID:1828-1492263000-1492270200@cobblehill.nyc
SUMMARY:Resident Empowerment Training Series: Developing a Social Campaign
DESCRIPTION:Free 6 week community organizing training series for people who live and work in Southwest Brooklyn. Register with Tevina Willios ataestheticsoulcommunity@gmail.com or call 347-469-3261
URL:https://cobblehill.nyc/event/resident-empowerment-training-series-developing-a-social-campaign/
LOCATION:Red Hook Initiative\, 767 Hicks Street\, Brooklyn\, NY\, 11231\, United States
CATEGORIES:Civics
ATTACH;FMTTYPE=image/png:https://cobblehill.nyc/wp-content/uploads/2017/04/RETFlyer.png
END:VEVENT
BEGIN:VEVENT
DTSTART;TZID=UTC:20170405T193000
DTEND;TZID=UTC:20170405T210000
DTSTAMP:20260425T075222
CREATED:20170323T082737Z
LAST-MODIFIED:20170323T084258Z
UID:1762-1491420600-1491426000@cobblehill.nyc
SUMMARY:NYPD Precent 76 Community Council
DESCRIPTION:President: Jerry Armer\nMeetings: The 76th Precinct community council meets the first Wednesday of each month at the 76th Precinct at 7:30 P.M.  \nHear the latest updates from the seven six and last month’s CompStat data. There is a discussion of public safety issues.
URL:https://cobblehill.nyc/event/nypd-precent-76-community-council/
LOCATION:NYPD Precinct 76\, 191 Union Street\, Brooklyn\, 11231\, United States
CATEGORIES:Meetings,Civics
ATTACH;FMTTYPE=image/jpeg:https://cobblehill.nyc/wp-content/uploads/2017/03/NYPD_76.jpg
END:VEVENT
BEGIN:VEVENT
DTSTART;TZID=UTC:20170402T100000
DTEND;TZID=UTC:20170402T160000
DTSTAMP:20260425T075222
CREATED:20170325T214957Z
LAST-MODIFIED:20170325T214957Z
UID:1788-1491127200-1491148800@cobblehill.nyc
SUMMARY:Participatory Budgeting Vote Site - PS 230
DESCRIPTION:It’s Participatory Budgeting vote week! You can vote in person here at PS 230. For learn more about PB\, see the 2017 PB ballot\, and vote online visit the blog.
URL:https://cobblehill.nyc/event/participatory-budgeting-vote-site-ps-230/
LOCATION:PS 230\, 1 Albemarle Road\, Brooklyn\, NY\, 11218\, United States
CATEGORIES:Civics
ATTACH;FMTTYPE=image/jpeg:https://cobblehill.nyc/wp-content/uploads/2017/03/PBNYC_logo_large.jpg
END:VEVENT
BEGIN:VEVENT
DTSTART;TZID=UTC:20170401T110000
DTEND;TZID=UTC:20170401T150000
DTSTAMP:20260425T075222
CREATED:20170325T220526Z
LAST-MODIFIED:20170325T220722Z
UID:1795-1491044400-1491058800@cobblehill.nyc
SUMMARY:Participatory Budgeting Vote Site - Prospect Park Alliance Day Fair
DESCRIPTION:It’s Participatory Budgeting vote week! You can vote in person here at the Prospect Park Alliance Day Fair\, at the Bartel-Pritchard Entrance. For learn more about PB\, see the 2017 PB ballot\, and vote online visit the blog.
URL:https://cobblehill.nyc/event/participatory-budgeting-vote-site-prospect-park-alliance-day-fair/
LOCATION:Bartel-Pritchard Entrance\, Prospect Park\, Prospect Park Southwest/Bartel Pritchard Square\, Brooklyn\, 11225\, United States
CATEGORIES:Civics
ATTACH;FMTTYPE=image/jpeg:https://cobblehill.nyc/wp-content/uploads/2017/03/PBNYC_logo_large.jpg
END:VEVENT
BEGIN:VEVENT
DTSTART;TZID=UTC:20170401T100000
DTEND;TZID=UTC:20170401T160000
DTSTAMP:20260425T075222
CREATED:20170325T213250Z
LAST-MODIFIED:20170325T213250Z
UID:1779-1491040800-1491062400@cobblehill.nyc
SUMMARY:Participatory Budgeting Vote Site - Old Stone House
DESCRIPTION:It’s Participatory Budgeting vote week! You can learn about each project and vote in person here\, at the District 39 Project Expo. For learn more about PB\, see the 2017 PB ballot\, and vote online visit the blog.
URL:https://cobblehill.nyc/event/participatory-budgeting-vote-site-old-stone-house/
LOCATION:Old Stone House\, 336 3rd Street\, Brooklyn\, NY\, 11215\, United States
CATEGORIES:Civics
ATTACH;FMTTYPE=image/jpeg:https://cobblehill.nyc/wp-content/uploads/2017/03/PBNYC_logo_large.jpg
END:VEVENT
BEGIN:VEVENT
DTSTART;TZID=UTC:20170329T180000
DTEND;TZID=UTC:20170329T210000
DTSTAMP:20260425T075222
CREATED:20170325T212754Z
LAST-MODIFIED:20170325T212754Z
UID:1774-1490810400-1490821200@cobblehill.nyc
SUMMARY:Participatory Budgeting Vote Site - District 39 Project Expo
DESCRIPTION:It’s Participatory Budgeting vote week! You can learn about each project and vote in person here\, at the District 39 Project Expo. For learn more about PB\, see the 2017 PB ballot\, and vote online visit the blog.
URL:https://cobblehill.nyc/event/participatory-budgeting-vote-site-district-39-project-expo/
LOCATION:Camp Friendship\, 339 8th Street\, Brooklyn\, 11215\, United States
CATEGORIES:Civics
ATTACH;FMTTYPE=image/jpeg:https://cobblehill.nyc/wp-content/uploads/2017/03/PBNYC_logo_large.jpg
END:VEVENT
BEGIN:VEVENT
DTSTART;TZID=UTC:20170327T190000
DTEND;TZID=UTC:20170327T210000
DTSTAMP:20260425T075222
CREATED:20170325T211659Z
LAST-MODIFIED:20170325T211659Z
UID:1768-1490641200-1490648400@cobblehill.nyc
SUMMARY:Participatory Budgeting Vote Site - #GetOrganizedBK
DESCRIPTION:It’s Participatory Budgeting vote week! You can vote in person here\, at the #GetOrganizedBK Meeting. For learn more about PB\, see the 2017 PB ballot\, and vote online visit the blog.
URL:https://cobblehill.nyc/event/participatory-budgeting-vote-site-getorganizedbk/
LOCATION:Congregation Beth Elohim\, 274 Garfield Place\, Brooklyn\, NY\, 11215\, United States
CATEGORIES:Meetings,Civics
ATTACH;FMTTYPE=image/jpeg:https://cobblehill.nyc/wp-content/uploads/2017/03/PBNYC_logo_large.jpg
END:VEVENT
BEGIN:VEVENT
DTSTART;TZID=UTC:20170322T183000
DTEND;TZID=UTC:20170322T203000
DTSTAMP:20260425T075222
CREATED:20170309T103935Z
LAST-MODIFIED:20170309T103935Z
UID:1725-1490207400-1490214600@cobblehill.nyc
SUMMARY:Whose Park? Equity in NYC's Green Spaces
DESCRIPTION:The following is a Brooklyn Historical Society event. \nIn our congested city\, parks and green spaces aim to provide some respite for all. But do they indeed serve every New Yorker equally? Is sharing our green space more easily said than d\none? Tupper Thomas\, former Executive Director of New Yorkers for Parks\, moderates a candid discussion with Ford Foundation President Darren Walker\, former Brooklyn Bridge Park President Regina Myer\, and Brooklyn Deputy Borough President Diana Reyna about parks\, equity\, and the complicated mediation between users. \n$10 / $5 for Brooklyn Historical Society Members \nReserve tickets \nOriginal Listing
URL:https://cobblehill.nyc/event/whose-park-equity-in-nycs-green-spaces/
LOCATION:Brooklyn Historical Society\, 128 Pierrepont Street\, Brooklyn\, 11201\, United States
CATEGORIES:Civics
ATTACH;FMTTYPE=image/png:https://cobblehill.nyc/wp-content/uploads/2017/03/BHS_parks.png
END:VEVENT
BEGIN:VEVENT
DTSTART;TZID=UTC:20170112T180000
DTEND;TZID=UTC:20170112T193000
DTSTAMP:20260425T075222
CREATED:20170106T071510Z
LAST-MODIFIED:20170106T071724Z
UID:1471-1484244000-1484249400@cobblehill.nyc
SUMMARY:Solar Information Session with Solarize CB6
DESCRIPTION:Coffee and refreshments will be served.\n\nRSVP here.\n\nJoin us on for a Solar Information Session\, as part of our Solarize Brooklyn CB6 2: Sun for All campaign.\nOur chosen installer American Solar Partners (ASP) will educate you on the ins & outs of purchasing a traditional solar array. They will talk about how solar power can cut your utility bill and make your home more valuable. Current incentives allow you to recoup up to 75% of your investment. Using Solar1’s Here Comes Solar model\, ASP is gathering a cluster of households and businesses to install solar at a lower price based on economies of scale.\nFor a more bespoke experience\, please bring a copy of your latest electric bill to the event.\nFor more information contact:\nPaige Alderoty\, Project Manager\, American Solar Partners\nPhone: 914-699-3366\n  \n\nThe final day to join the purchasing group is February 2\, 2017.\n\n  \nThis program is open to Brooklyn residents. Your building does not need to be in Brooklyn CB6 to participate.
URL:https://cobblehill.nyc/event/solar-information-session-with-solarize-cb6/
LOCATION:Cobble Hill Community Room\, 250 Baltic Street\, Brooklyn\, NY\, 11201\, United States
CATEGORIES:Civics
ATTACH;FMTTYPE=image/jpeg:https://cobblehill.nyc/wp-content/uploads/2017/01/Solarize.jpg
END:VEVENT
BEGIN:VEVENT
DTSTART;TZID=UTC:20170107T130000
DTEND;TZID=UTC:20170107T160000
DTSTAMP:20260425T075222
CREATED:20170106T071048Z
LAST-MODIFIED:20170106T071048Z
UID:1467-1483794000-1483804800@cobblehill.nyc
SUMMARY:City Harvest Food Drive at Carroll Park
DESCRIPTION:Annual City Harvest Food Drive by Friends of Carroll Park. Friends of Carroll Park will be collecting non-perishable items to donate to hungry neighbors through the amazing group City Harvest this holiday season. They will be hosting collection drives on four upcoming Saturdays: January 7 and 14\, from 1:00 to 4:00 p.m. The most needed items are: \n– canned fruit\n– canned vegetables\n– peanut butter (plastic jars)\n– macaroni and cheese (packaged)\n– hot and cold cereal (packaged\, family-sized)\nCity Harvest cannot accept glass containers\, homemade items\, expired food\, or dented cans.\nIf you are interested in volunteering for a shift during this year’s drives\, or if you’d like to coordinate your own ancillary collection at a neighborhood school or business (you can drop your items at the park house and they’ll arrange the pickup from City Harvest)\, please let us know at friendsofcarrollpark@yahoo.com!
URL:https://cobblehill.nyc/event/city-harvest-food-drive-at-carroll-park/
LOCATION:Carroll Park House\, 320 Smith Street\, Brooklyn\, NY\, 11231\, United States
CATEGORIES:Civics
ATTACH;FMTTYPE=image/jpeg:https://cobblehill.nyc/wp-content/uploads/2017/01/Can-drive.jpg
END:VEVENT
BEGIN:VEVENT
DTSTART;TZID=UTC:20161202T090000
DTEND;TZID=UTC:20161202T150000
DTSTAMP:20260425T075222
CREATED:20161116T205349Z
LAST-MODIFIED:20161116T205445Z
UID:1307-1480669200-1480690800@cobblehill.nyc
SUMMARY:The Next 100 Years of Brooklyn Zoning
DESCRIPTION:Please join the New York City Council for a day-long symposium on “The Next 100 Years of Brooklyn Zoning.” Deputy Mayor Alicia Glen will be the featured speaker and key Council Members from Brooklyn will be speaking about “Zoning Our Diverse Communities for The Future.” Please note that while there is a nominal fee for attendees\, the event is free for government employees who register by Monday\, November 21 (after Nov. 21\, a fee will apply to government employees as well). Registration is available here. Pre-registration is required to attend the event. \nThe full invitation is below. Please distribute widely to your networks — it promises to be an enlightening and entertaining event!
URL:https://cobblehill.nyc/event/the-next-100-years-of-brooklyn-zoning/
LOCATION:Brooklyn Law School\, 250 Joralemon Street\, Brooklyn\, NY\, 11201\, United States
CATEGORIES:Civics
ATTACH;FMTTYPE=image/png:https://cobblehill.nyc/wp-content/uploads/2016/11/Brooklyn_zoning.png
END:VEVENT
END:VCALENDAR